BEGIN:VCALENDAR
VERSION:2.0
PRODID:-//www.cpsanchor.com//NONSGML kigkonsult.se iCalcreator 2.30.10//
CALSCALE:GREGORIAN
METHOD:PUBLISH
UID:86066e8f-26aa-4d20-b029-750e016a827b
X-WR-CALDESC:Anchor Hoops is a youth basketball program run by the Columbus
  Boys Basketball program.  \n\nCost $125 and includes: \nUniform (only if 
 you need a new one this year)\nWarm Up Shirt\nTeam entry fees for leagues 
 and tournaments\nTeam practice time\n\nOctober 30th - Practice will start 
 with a 2 night clinic \nPractices will be usually on Monday and Thursday e
 venings but may have a practice on Tuesdays or an occasional practice on S
 unday evenings. Depending on the gym availability. Coaches will get the fo
 llowing week's practice out to you as soon as they know the gym situation.
  \n\n3rd-6th 6:15-7:45pm  (6th may have to practice in the 7:45-9:15 time 
 slot at times)\n7th-8th 7:45-9:15pm\n\nNovember 11 - November 18 - Decembe
 r 2 \nB teams will play in the YMCA league in Columbus and your games will
  be Saturday Mornings\, early afternoon. \n\nNovember 11 - November 18 - D
 ecember 2\nA team in each age group may participate in Lincoln Supreme Lea
 gue \n\nDecember 8-10\nAll teams will play in the Columbus Basketball tour
 nament held in Columbus \n\nFebruary 2-4 \n All teams will play in the Col
 umbus Basketball tournament held in Columbus\n\nThere may be other tournam
 ents that the coaches will take teams just depending on availability of ki
 ds and coaches throughout the year.  \n\n3rd - 6th grades \nwill play in t
 he YMCA league and both Columbus tournaments (Top team may play in Lincoln
 )\nCoaches and player availability will determine 1-3 more tournaments thr
 oughout the year. \n\n7th-8th grades\nwill play in the YMCA league and bot
 h Columbus tournaments (Top team may play in Lincoln) but practice will be
  done on December 18th so they can prepare for the Middle school season.  
 \n
X-WR-RELCALID:ce1f6bd5be344fd211a899362a22a7b8
X-WR-TIMEZONE:America/Chicago
BEGIN:VTIMEZONE
TZID:America/Chicago
BEGIN:STANDARD
TZNAME:CST
DTSTART:20221106T020000
TZOFFSETFROM:-0500
TZOFFSETTO:-0600
RDATE:20231105T020000
RDATE:20241103T020000
END:STANDARD
BEGIN:DAYLIGHT
TZNAME:CDT
DTSTART:20230312T020000
TZOFFSETFROM:-0600
TZOFFSETTO:-0500
RDATE:20240310T020000
RDATE:20250309T020000
END:DAYLIGHT
END:VTIMEZONE
BEGIN:VEVENT
UID:baf66ff4-852e-441b-846d-7a3d6afdcfaa
DTSTAMP:20260426T041613Z
DESCRIPTION:Anchor Hoops is a youth basketball program run by the Columbus 
 Boys Basketball program.  \n\nCost $125 and includes: \nUniform (only if y
 ou need a new one this year)\nWarm Up Shirt\nTeam entry fees for leagues a
 nd tournaments\nTeam practice time\n\nOctober 30th - Practice will start w
 ith a 2 night clinic \nPractices will be usually on Monday and Thursday ev
 enings but may have a practice on Tuesdays or an occasional practice on Su
 nday evenings. Depending on the gym availability. Coaches will get the fol
 lowing week's practice out to you as soon as they know the gym situation. 
 \n\n3rd-6th 6:15-7:45pm  (6th may have to practice in the 7:45-9:15 time s
 lot at times)\n7th-8th 7:45-9:15pm\n\nNovember 11 - November 18 - December
  2 \nB teams will play in the YMCA league in Columbus and your games will 
 be Saturday Mornings\, early afternoon. \n\nNovember 11 - November 18 - De
 cember 2\nA team in each age group may participate in Lincoln Supreme Leag
 ue \n\nDecember 8-10\nAll teams will play in the Columbus Basketball tourn
 ament held in Columbus \n\nFebruary 2-4 \n All teams will play in the Colu
 mbus Basketball tournament held in Columbus\n\nThere may be other tourname
 nts that the coaches will take teams just depending on availability of kid
 s and coaches throughout the year.  \n\n3rd - 6th grades \nwill play in th
 e YMCA league and both Columbus tournaments (Top team may play in Lincoln)
 \nCoaches and player availability will determine 1-3 more tournaments thro
 ughout the year. \n\n7th-8th grades\nwill play in the YMCA league and both
  Columbus tournaments (Top team may play in Lincoln) but practice will be 
 done on December 18th so they can prepare for the Middle school season.  
 \n
DTSTART;TZID=America/Chicago:20230929T230000
DTEND;TZID=America/Chicago:20230930T000000
LOCATION:Columbus High School\, 3434 Discoverer Drive\, Columbus\, NE 68601
SUMMARY:Anchor Hoops 2023-2024 Registration
END:VEVENT
END:VCALENDAR
