BEGIN:VCALENDAR
VERSION:2.0
PRODID:-//www.cpsanchor.com//NONSGML kigkonsult.se iCalcreator 2.30.10//
CALSCALE:GREGORIAN
METHOD:PUBLISH
UID:177efdeb-13a3-4516-8879-04d7af9491e7
X-WR-CALDESC:Sunday\, October 15\, 2023 (Deadline to register: October 1)\n
 Grades 3-6\n3/4th grade 9am-1pm\n5/6th grade 2-6pm\n\nAwards for top place
 s!
X-WR-RELCALID:d10ed9cc89ac0f6b207577532b3280bb
X-WR-TIMEZONE:America/Chicago
BEGIN:VTIMEZONE
TZID:America/Chicago
BEGIN:STANDARD
TZNAME:CST
DTSTART:20221106T020000
TZOFFSETFROM:-0500
TZOFFSETTO:-0600
RDATE:20231105T020000
RDATE:20241103T020000
END:STANDARD
BEGIN:DAYLIGHT
TZNAME:CDT
DTSTART:20230312T020000
TZOFFSETFROM:-0600
TZOFFSETTO:-0500
RDATE:20240310T020000
RDATE:20250309T020000
END:DAYLIGHT
END:VTIMEZONE
BEGIN:VEVENT
UID:eaee5805-f0da-441b-90b9-a759f2a1aeb3
DTSTAMP:20260426T021949Z
DESCRIPTION:Sunday\, October 15\, 2023 (Deadline to register: October 1)\nG
 rades 3-6\n3/4th grade 9am-1pm\n5/6th grade 2-6pm\n\nAwards for top places
 !
DTSTART;TZID=America/Chicago:20231015T090000
DTEND;TZID=America/Chicago:20231015T170000
LOCATION:
SUMMARY:CMS Youth Volleyball Tournament - Halloween Havoc #1
END:VEVENT
END:VCALENDAR
