BEGIN:VCALENDAR
VERSION:2.0
PRODID:-//www.cpsanchor.com//NONSGML kigkonsult.se iCalcreator 2.30.10//
CALSCALE:GREGORIAN
METHOD:PUBLISH
UID:816b38eb-ee89-41b2-afc8-31c600f26f72
X-WR-CALDESC:Sunday\, October 22\, 2023 (Deadline: October 16th)\nGrades 5-
 8th Halloween Havoc\n5/6th Grade 9am-1pm\n7th/8th Grade 2pm-6pm\nAwards fo
 r top places and best costumes!
X-WR-RELCALID:724f91fe6ca98d76ebfe59c2c5b17ae9
X-WR-TIMEZONE:America/Chicago
BEGIN:VTIMEZONE
TZID:America/Chicago
BEGIN:STANDARD
TZNAME:CST
DTSTART:20221106T020000
TZOFFSETFROM:-0500
TZOFFSETTO:-0600
RDATE:20231105T020000
RDATE:20241103T020000
END:STANDARD
BEGIN:DAYLIGHT
TZNAME:CDT
DTSTART:20230312T020000
TZOFFSETFROM:-0600
TZOFFSETTO:-0500
RDATE:20240310T020000
RDATE:20250309T020000
END:DAYLIGHT
END:VTIMEZONE
BEGIN:VEVENT
UID:f358bbd4-f839-4ade-8f49-4410d53ef64a
DTSTAMP:20260426T021641Z
DESCRIPTION:Sunday\, October 22\, 2023 (Deadline: October 16th)\nGrades 5-8
 th Halloween Havoc\n5/6th Grade 9am-1pm\n7th/8th Grade 2pm-6pm\nAwards for
  top places and best costumes!
DTSTART;TZID=America/Chicago:20231022T090000
DTEND;TZID=America/Chicago:20231022T170000
LOCATION:
SUMMARY:CMS Youth Volleyball Tournament - Halloween Havoc #2
END:VEVENT
END:VCALENDAR
