BEGIN:VCALENDAR
VERSION:2.0
PRODID:-//www.cpsanchor.com//NONSGML kigkonsult.se iCalcreator 2.30.10//
CALSCALE:GREGORIAN
METHOD:PUBLISH
UID:7ef74d53-c621-415e-b4bf-5315389e566b
X-WR-CALDESC:Pick a Day to Donate!\n\nCMS Parent Advisory Council is helpin
 g raise funds for the CMS Cheerleading Program. The CMS PAC has created a 
 'Pick a Date and Donate' fundraiser.\n\nWHERE? Columbus Middle School\nWHE
 N? Month of October 2023\n\nIn participating with this fundraiser\, donors
  will select a day (or more) throughout the month of October. They will do
 nate the dollar amount of that day. For example\, if the selected day was 
 Oct. 15th the amount donated would be $15.  Cash\, check or online giving 
 is available. To give online\, please follow the QR code. Venmo and other 
 similar apps will not be accepted.
X-WR-RELCALID:c5fecda23c5ff8cfcfb62e33ee08ce41
X-WR-TIMEZONE:America/Chicago
BEGIN:VTIMEZONE
TZID:America/Chicago
BEGIN:STANDARD
TZNAME:CST
DTSTART:20221106T020000
TZOFFSETFROM:-0500
TZOFFSETTO:-0600
RDATE:20231105T020000
RDATE:20241103T020000
END:STANDARD
BEGIN:DAYLIGHT
TZNAME:CDT
DTSTART:20230312T020000
TZOFFSETFROM:-0600
TZOFFSETTO:-0500
RDATE:20240310T020000
RDATE:20250309T020000
END:DAYLIGHT
END:VTIMEZONE
BEGIN:VEVENT
UID:f4d6700d-49e9-4f54-98e3-0f2d4c9c17c7
DTSTAMP:20260426T022038Z
DESCRIPTION:Pick a Day to Donate!\n\nCMS Parent Advisory Council is helping
  raise funds for the CMS Cheerleading Program. The CMS PAC has created a '
 Pick a Date and Donate' fundraiser.\n\nWHERE? Columbus Middle School\nWHEN
 ? Month of October 2023\n\nIn participating with this fundraiser\, donors 
 will select a day (or more) throughout the month of October. They will don
 ate the dollar amount of that day. For example\, if the selected day was O
 ct. 15th the amount donated would be $15.  Cash\, check or online giving i
 s available. To give online\, please follow the QR code. Venmo and other s
 imilar apps will not be accepted.
DTSTART;TZID=America/Chicago:20231031T233000
DTEND;TZID=America/Chicago:20231101T003000
LOCATION:Columbus Middle School
SUMMARY:Pick A Day To Donate
END:VEVENT
END:VCALENDAR
