BEGIN:VCALENDAR
VERSION:2.0
PRODID:-//www.cpsanchor.com//NONSGML kigkonsult.se iCalcreator 2.30.10//
CALSCALE:GREGORIAN
METHOD:PUBLISH
UID:51f303b0-82a1-471d-8640-116798278ee1
X-WR-CALDESC:In March 2024\, a winner will be drawn daily to will receive $
 100.  \n\nThe cost is $20 per ticket and winning ticket holders will be co
 ntacted.  Winners will also be shared on the 'CHS Post Prom 2024' Facebook
  page.
X-WR-RELCALID:c60979f830eca63b6b11fa128f018707
X-WR-TIMEZONE:America/Chicago
BEGIN:VTIMEZONE
TZID:America/Chicago
BEGIN:STANDARD
TZNAME:CST
DTSTART:20231105T020000
TZOFFSETFROM:-0500
TZOFFSETTO:-0600
RDATE:20241103T020000
END:STANDARD
BEGIN:DAYLIGHT
TZNAME:CDT
DTSTART:20230312T020000
TZOFFSETFROM:-0600
TZOFFSETTO:-0500
RDATE:20240310T020000
RDATE:20250309T020000
END:DAYLIGHT
END:VTIMEZONE
BEGIN:VEVENT
UID:14b56427-897c-42ec-9f12-4923a2c7582d
DTSTAMP:20260425T191041Z
DESCRIPTION:In March 2024\, a winner will be drawn daily to will receive $1
 00.  \n\nThe cost is $20 per ticket and winning ticket holders will be con
 tacted.  Winners will also be shared on the 'CHS Post Prom 2024' Facebook 
 page.
DTSTART;TZID=America/Chicago:20240129T063000
DTEND;TZID=America/Chicago:20240229T235900
LOCATION:https://www.cpsanchor.com/anchor-organizations/chs-post-prom.html
SUMMARY:CHS Post Prom Fundraiser - 31 Days of Cash\, March 2024
END:VEVENT
END:VCALENDAR
