BEGIN:VCALENDAR
VERSION:2.0
PRODID:-//www.cpsanchor.com//NONSGML kigkonsult.se iCalcreator 2.30.10//
CALSCALE:GREGORIAN
METHOD:PUBLISH
UID:49a3ac06-0b2d-4bd4-9a22-1b7c509de34d
X-WR-CALDESC:One of the most requested events of the year!  Join us and enj
 oy dinner\, followed by a full-length production of music and fun from the
  New World Singers\, joined by the Neptune’s Angels and the Baker’s Dozen.
  This event is supported by the CHS Vocal Music Boosters.  Dinner will be 
 catered by HyVee of Columbus.  When you purchase tickets you will have a c
 hoice of two entrées.
X-WR-RELCALID:265859a6e27cdc95ea07bc4a23b84b1d
X-WR-TIMEZONE:America/Chicago
BEGIN:VTIMEZONE
TZID:America/Chicago
BEGIN:STANDARD
TZNAME:CST
DTSTART:20231105T020000
TZOFFSETFROM:-0500
TZOFFSETTO:-0600
RDATE:20241103T020000
END:STANDARD
BEGIN:DAYLIGHT
TZNAME:CDT
DTSTART:20230312T020000
TZOFFSETFROM:-0600
TZOFFSETTO:-0500
RDATE:20240310T020000
RDATE:20250309T020000
END:DAYLIGHT
END:VTIMEZONE
BEGIN:VEVENT
UID:25d4a396-3328-49bb-ab63-52d91cc5f3bb
DTSTAMP:20260425T185036Z
DESCRIPTION:One of the most requested events of the year!  Join us and enjo
 y dinner\, followed by a full-length production of music and fun from the 
 New World Singers\, joined by the Neptune’s Angels and the Baker’s Dozen. 
 This event is supported by the CHS Vocal Music Boosters.  Dinner will be c
 atered by HyVee of Columbus.  When you purchase tickets you will have a ch
 oice of two entrées.
DTSTART;TZID=America/Chicago:20240216T180000
DTEND;TZID=America/Chicago:20240216T200000
LOCATION:1C Church - The Sanctuary\, 2200 28th Ave\, Columbus\, NE 68601
SUMMARY:2024 CHS Vocal Music Valentine's Day Dinner Show
END:VEVENT
END:VCALENDAR
