BEGIN:VCALENDAR
VERSION:2.0
PRODID:-//www.cpsanchor.com//NONSGML kigkonsult.se iCalcreator 2.30.10//
CALSCALE:GREGORIAN
METHOD:PUBLISH
UID:b65a09e5-f5a7-4e45-b96c-98acb60a6237
X-WR-CALDESC:The first annual Discoverers of Distinction ceremony will be h
 eld on April 18\, 2024 at Dusters located in downtown Columbus.  Join us a
 s we celebrate this year's inductees!  Guests will be served hors d'oeuvre
 s and cash bar will be available.\n
X-WR-RELCALID:1812f28bb1d6c722f34228662f33efdc
X-WR-TIMEZONE:America/Chicago
BEGIN:VTIMEZONE
TZID:America/Chicago
BEGIN:STANDARD
TZNAME:CST
DTSTART:20231105T020000
TZOFFSETFROM:-0500
TZOFFSETTO:-0600
RDATE:20241103T020000
END:STANDARD
BEGIN:DAYLIGHT
TZNAME:CDT
DTSTART:20240310T020000
TZOFFSETFROM:-0600
TZOFFSETTO:-0500
RDATE:20250309T020000
END:DAYLIGHT
END:VTIMEZONE
BEGIN:VEVENT
UID:96a56265-d223-4fea-b14f-b3e1f12b2ac0
DTSTAMP:20260425T154226Z
DESCRIPTION:The first annual Discoverers of Distinction ceremony will be he
 ld on April 18\, 2024 at Dusters located in downtown Columbus.  Join us as
  we celebrate this year's inductees!  Guests will be served hors d'oeuvres
  and cash bar will be available.\n
DTSTART;TZID=America/Chicago:20240418T173000
DTEND;TZID=America/Chicago:20240418T203000
LOCATION:2804 13th St\, Columbus\, NE 68601 US
SUMMARY:Discoverers of Distinction Induction Ceremony
END:VEVENT
END:VCALENDAR
