BEGIN:VCALENDAR
VERSION:2.0
PRODID:-//www.cpsanchor.com//NONSGML kigkonsult.se iCalcreator 2.30.10//
CALSCALE:GREGORIAN
METHOD:PUBLISH
UID:d5fea741-526c-4bc0-b07c-f2e2f2b9e055
X-WR-CALDESC:One of the most requested events of the year!  Join us and enj
 oy dinner\, followed by a full-length production of music and fun from the
  New World Singers\, joined by the Neptune’s Angels and the Baker’s Dozen.
  This event is supported by the CHS Vocal Music Boosters.  Dinner will be 
 catered by HyVee of Columbus.  When you purchase tickets you will have a c
 hoice of two entrées.
X-WR-RELCALID:4fee459bc41e2fbffa42028d9672dca5
X-WR-TIMEZONE:America/Chicago
BEGIN:VTIMEZONE
TZID:America/Chicago
BEGIN:STANDARD
TZNAME:CST
DTSTART:20241103T020000
TZOFFSETFROM:-0500
TZOFFSETTO:-0600
RDATE:20251102T020000
END:STANDARD
BEGIN:DAYLIGHT
TZNAME:CDT
DTSTART:20240310T020000
TZOFFSETFROM:-0600
TZOFFSETTO:-0500
RDATE:20250309T020000
RDATE:20260308T020000
END:DAYLIGHT
END:VTIMEZONE
BEGIN:VEVENT
UID:94e7bcd6-35e2-4d1a-a5d8-76d99da8de77
DTSTAMP:20260424T103057Z
DESCRIPTION:One of the most requested events of the year!  Join us and enjo
 y dinner\, followed by a full-length production of music and fun from the 
 New World Singers\, joined by the Neptune’s Angels and the Baker’s Dozen. 
 This event is supported by the CHS Vocal Music Boosters.  Dinner will be c
 atered by HyVee of Columbus.  When you purchase tickets you will have a ch
 oice of two entrées.
DTSTART;TZID=America/Chicago:20250215T180000
DTEND;TZID=America/Chicago:20250215T200000
LOCATION:1C Church - The Sanctuary\, 2200 28th Ave\, Columbus\, NE 68601
SUMMARY:2025 CHS Vocal Music Valentine's Day Dinner Show
END:VEVENT
END:VCALENDAR
