BEGIN:VCALENDAR
VERSION:2.0
PRODID:-//www.cpsanchor.com//NONSGML kigkonsult.se iCalcreator 2.30.10//
CALSCALE:GREGORIAN
METHOD:PUBLISH
UID:7558aa53-cb57-46a5-b2ae-e76cc14caa85
X-WR-CALDESC:The second annual Discoverers of Distinction ceremony will be 
 held on April 10\, 2025 at The American Legion located in Columbus.  Join 
 us as we celebrate this year's inductees!  Guests will be served hors d'oe
 uvres and cash bar will be available.\n
X-WR-RELCALID:4c5b5d7d10b1546052d767dd61472ce0
X-WR-TIMEZONE:America/Chicago
BEGIN:VTIMEZONE
TZID:America/Chicago
BEGIN:STANDARD
TZNAME:CST
DTSTART:20241103T020000
TZOFFSETFROM:-0500
TZOFFSETTO:-0600
RDATE:20251102T020000
END:STANDARD
BEGIN:DAYLIGHT
TZNAME:CDT
DTSTART:20250309T020000
TZOFFSETFROM:-0600
TZOFFSETTO:-0500
RDATE:20260308T020000
END:DAYLIGHT
END:VTIMEZONE
BEGIN:VEVENT
UID:3d3da8f8-9226-430e-925b-ad3f5c9df08e
DTSTAMP:20260423T181315Z
DESCRIPTION:The second annual Discoverers of Distinction ceremony will be h
 eld on April 10\, 2025 at The American Legion located in Columbus.  Join u
 s as we celebrate this year's inductees!  Guests will be served hors d'oeu
 vres and cash bar will be available.\n
DTSTART;TZID=America/Chicago:20250410T173000
DTEND;TZID=America/Chicago:20250410T203000
LOCATION:2263 3rd Ave\, Columbus\, NE 68601 US
SUMMARY:Discoverers of Distinction Induction Ceremony
END:VEVENT
END:VCALENDAR
