BEGIN:VCALENDAR
VERSION:2.0
PRODID:-//www.cpsanchor.com//NONSGML kigkonsult.se iCalcreator 2.30.10//
CALSCALE:GREGORIAN
METHOD:PUBLISH
UID:95ab28a3-cead-4aec-9f93-2e8a0f1cc465
X-WR-CALDESC:Sunday\, October 19\, 2025 (Deadline to register: October 10)
 \nGrades 4-8\nMorning session will begin at 9am \nAfternoon session will b
 egin at 2pm\n\nOnly 8 teams per grade level will be accepted.\nAwards for 
 top places!  Costumes are encouraged.
X-WR-RELCALID:57a253264637e721cb63baccefbffc74
X-WR-TIMEZONE:America/Chicago
BEGIN:VTIMEZONE
TZID:America/Chicago
BEGIN:STANDARD
TZNAME:CST
DTSTART:20241103T020000
TZOFFSETFROM:-0500
TZOFFSETTO:-0600
RDATE:20251102T020000
RDATE:20261101T020000
END:STANDARD
BEGIN:DAYLIGHT
TZNAME:CDT
DTSTART:20250309T020000
TZOFFSETFROM:-0600
TZOFFSETTO:-0500
RDATE:20260308T020000
RDATE:20270314T020000
END:DAYLIGHT
END:VTIMEZONE
BEGIN:VEVENT
UID:315bb523-7820-4232-b792-a7ea044b097f
DTSTAMP:20260424T073242Z
DESCRIPTION:Sunday\, October 19\, 2025 (Deadline to register: October 10)\n
 Grades 4-8\nMorning session will begin at 9am \nAfternoon session will beg
 in at 2pm\n\nOnly 8 teams per grade level will be accepted.\nAwards for to
 p places!  Costumes are encouraged.
DTSTART;TZID=America/Chicago:20251019T050000
DTEND;TZID=America/Chicago:20251019T050001
LOCATION:Columbus Middle School
SUMMARY:CMS Youth Volleyball Tournament - Halloween Havoc
END:VEVENT
END:VCALENDAR
