BEGIN:VCALENDAR
VERSION:2.0
PRODID:-//www.cpsanchor.com//NONSGML kigkonsult.se iCalcreator 2.30.10//
CALSCALE:GREGORIAN
METHOD:PUBLISH
UID:0ffb70a7-234e-47ec-8142-082662898b42
X-WR-CALDESC:The third annual Discoverers of Distinction ceremony will be h
 eld on April 16\, 2026 at The American Legion located in Columbus.  Join u
 s as we celebrate this year's inductees!  Guests will be served hors d'oeu
 vres and cash bar will be available.\n
X-WR-RELCALID:6a72fddadc2ac1838612557f7e002d36
X-WR-TIMEZONE:America/Chicago
BEGIN:VTIMEZONE
TZID:America/Chicago
BEGIN:STANDARD
TZNAME:CST
DTSTART:20251102T020000
TZOFFSETFROM:-0500
TZOFFSETTO:-0600
RDATE:20261101T020000
END:STANDARD
BEGIN:DAYLIGHT
TZNAME:CDT
DTSTART:20260308T020000
TZOFFSETFROM:-0600
TZOFFSETTO:-0500
RDATE:20270314T020000
END:DAYLIGHT
END:VTIMEZONE
BEGIN:VEVENT
UID:f88fdaa1-bc35-4945-b44c-575c56f3166e
DTSTAMP:20260423T201820Z
DESCRIPTION:The third annual Discoverers of Distinction ceremony will be he
 ld on April 16\, 2026 at The American Legion located in Columbus.  Join us
  as we celebrate this year's inductees!  Guests will be served hors d'oeuv
 res and cash bar will be available.\n
DTSTART;TZID=America/Chicago:20260416T173000
DTEND;TZID=America/Chicago:20260416T203000
LOCATION:2263 3rd Ave\, Columbus\, NE 68601 US
SUMMARY:Discoverers of Distinction Induction Ceremony
END:VEVENT
END:VCALENDAR
