BEGIN:VCALENDAR
VERSION:2.0
PRODID:-//www.cpsanchor.com//NONSGML kigkonsult.se iCalcreator 2.30.10//
CALSCALE:GREGORIAN
METHOD:PUBLISH
UID:32a16802-3958-40f2-94dc-8d5b24d24498
X-WR-CALDESC:This year's event will be hosted at the Prime 10 Steakhouse an
 d Venue located at 4174 63rd Ave. Thank you to our sponsor Gregg Young Col
 umbus!
X-WR-RELCALID:d78cd5602f3fd2236e3981734629c7e0
X-WR-TIMEZONE:America/Chicago
BEGIN:VTIMEZONE
TZID:America/Chicago
BEGIN:STANDARD
TZNAME:CST
DTSTART:20251102T020000
TZOFFSETFROM:-0500
TZOFFSETTO:-0600
RDATE:20261101T020000
RDATE:20271107T020000
END:STANDARD
BEGIN:DAYLIGHT
TZNAME:CDT
DTSTART:20260308T020000
TZOFFSETFROM:-0600
TZOFFSETTO:-0500
RDATE:20270314T020000
END:DAYLIGHT
END:VTIMEZONE
BEGIN:VEVENT
UID:34a29f9c-aab9-4458-8b9a-47dcec0ebe28
DTSTAMP:20260424T051246Z
DESCRIPTION:This year's event will be hosted at the Prime 10 Steakhouse and
  Venue located at 4174 63rd Ave. Thank you to our sponsor Gregg Young Colu
 mbus!
DTSTART;TZID=America/Chicago:20260903T163000
DTEND;TZID=America/Chicago:20260903T200000
LOCATION:4174 63rd Ave\, Columbus\, NE 68601 US
SUMMARY:2026 Discoverer Athletic Hall of Fame
END:VEVENT
END:VCALENDAR
