BEGIN:VCALENDAR
VERSION:2.0
PRODID:-//www.cpsanchor.com//NONSGML kigkonsult.se iCalcreator 2.30.10//
CALSCALE:GREGORIAN
METHOD:PUBLISH
UID:5f56e134-8a2b-4330-ba75-bd5726ac3d98
X-WR-CALDESC:
X-WR-RELCALID:7f7bace317252dc14bf27ad74be424df
X-WR-TIMEZONE:America/Chicago
BEGIN:VTIMEZONE
TZID:America/Chicago
BEGIN:STANDARD
TZNAME:CST
DTSTART:20251102T020000
TZOFFSETFROM:-0500
TZOFFSETTO:-0600
RDATE:20261101T020000
RDATE:20271107T020000
END:STANDARD
BEGIN:DAYLIGHT
TZNAME:CDT
DTSTART:20260308T020000
TZOFFSETFROM:-0600
TZOFFSETTO:-0500
RDATE:20270314T020000
END:DAYLIGHT
END:VTIMEZONE
BEGIN:VEVENT
UID:10351213-90a7-4052-8137-ce32d79f1337
DTSTAMP:20260424T050249Z
DESCRIPTION:
DTSTART;TZID=America/Chicago:20260903T083000
DTEND;TZID=America/Chicago:20260903T123000
LOCATION:5113 63rd St\, Columbus\, NE 68601 US
SUMMARY:Discoverer Athletic Hall of Fame Golf Classic
END:VEVENT
END:VCALENDAR
